BEGIN:VCALENDAR
VERSION:2.0
PRODID:-//WONDERbabies - ECPv6.15.20//NONSGML v1.0//EN
CALSCALE:GREGORIAN
METHOD:PUBLISH
X-ORIGINAL-URL:https://www.wonderbabies.org
X-WR-CALDESC:Events for WONDERbabies
REFRESH-INTERVAL;VALUE=DURATION:PT1H
X-Robots-Tag:noindex
X-PUBLISHED-TTL:PT1H
BEGIN:VTIMEZONE
TZID:America/Denver
BEGIN:DAYLIGHT
TZOFFSETFROM:-0700
TZOFFSETTO:-0600
TZNAME:MDT
DTSTART:20230312T090000
END:DAYLIGHT
BEGIN:STANDARD
TZOFFSETFROM:-0600
TZOFFSETTO:-0700
TZNAME:MST
DTSTART:20231105T080000
END:STANDARD
BEGIN:DAYLIGHT
TZOFFSETFROM:-0700
TZOFFSETTO:-0600
TZNAME:MDT
DTSTART:20240310T090000
END:DAYLIGHT
BEGIN:STANDARD
TZOFFSETFROM:-0600
TZOFFSETTO:-0700
TZNAME:MST
DTSTART:20241103T080000
END:STANDARD
BEGIN:DAYLIGHT
TZOFFSETFROM:-0700
TZOFFSETTO:-0600
TZNAME:MDT
DTSTART:20250309T090000
END:DAYLIGHT
BEGIN:STANDARD
TZOFFSETFROM:-0600
TZOFFSETTO:-0700
TZNAME:MST
DTSTART:20251102T080000
END:STANDARD
END:VTIMEZONE
BEGIN:VEVENT
DTSTART;VALUE=DATE:20240912
DTEND;VALUE=DATE:20240914
DTSTAMP:20260423T112402
CREATED:20231212T184045Z
LAST-MODIFIED:20240905T084752Z
UID:13705-1726099200-1726271999@www.wonderbabies.org
SUMMARY:FIRST Steps for BABIES© Training Sept. 12-13-2024
DESCRIPTION:The FIRST Steps for BABIES© is a two-day (virtual) foundational training which provides both a framework for interdisciplinary early intervention and for health care professionals to learn about the foundations of newborn and young infant development through the FIRST Steps for BABIES© approach. Additionally\, participants will learn about the progression of the caregiver-infant relationship as the infant develops using the PreSTEPS Model®. \nThis training is a pre-requisite to the other trainings programs offered through WonderBABIES. This foundational training is the first step in the learning program for interdisciplinary early intervention and health care professionals. Cost is $345 per person. \nREGISTRATION IS FULL.\n\n\n 
URL:https://www.wonderbabies.org/event/fsfb-august-29-30-2024/
LOCATION:Held Virtually\, United States
CATEGORIES:Discharge Professionals,FIRST Steps for BABIES©
ATTACH;FMTTYPE=image/png:https://www.wonderbabies.org/wp-content/uploads/2021/08/Transparent-WONDERBABIES-logo.png
ORGANIZER;CN="Joy V. Browne%2C PhD%2C PCNS-BC%2C IMH-E%C2%AE":MAILTO:wonderbabies@yahoo.com
END:VEVENT
END:VCALENDAR